BEGIN:VCALENDAR
VERSION:2.0
PRODID:-//ChamberMaster//Event Calendar 2.0//EN
METHOD:PUBLISH
X-PUBLISHED-TTL:P3D
REFRESH-INTERVAL:P3D
CALSCALE:GREGORIAN
BEGIN:VEVENT
DTSTART:20260502T140000Z
DTEND:20260502T200000Z
X-MICROSOFT-CDO-ALLDAYEVENT:FALSE
SUMMARY:2026 Bee County Car Show
DESCRIPTION:Get ready for an unforgettable day in the heart of downtown Beeville at the First Annual Bee County Car Show\, proudly presented by the Bee County Chamber of Commerce and BeeHop Yogurt Hive on May 2\, 2026! This exciting\, high-energy event will showcase an incredible lineup of vehicles. From classic cars and modern muscle to fully customized builds\, motorcycles\, and one-of-a-kind custom bikes. Whether you're a lifelong car enthusiast or just love a great community event\, you'll be surrounded by the sights\, sounds\, and craftsmanship of some truly impressive rides. With a wide variety of entries expected\, there's something for everyone to enjoy\, and awards will be presented across multiple categories (to be announced)\, celebrating the best of the best.\n\nAs you take in the car show\, you'll also be right in the middle of the vibrant energy of Market Days\, happening just a short walk away. Spend the day exploring local vendors and enjoying delicious food trucks\, all while supporting our amazing small businesses throughout downtown Beeville. From unique shopping experiences to family-friendly fun\, this event is designed to bring the community together in a big way. Mark your calendar and come be part of a grand celebration of cars\, community\, and everything that makes Bee County special!\n\n\n\n \n\nEvent Details\n\n\n	Date: Saturday\, May 2nd\, 2026\n\n\n\n	Location: BeeHop Yogurt Hive\n\n	301 N. St. Marys\, Beeville TX 78102\n\n\n\n	Entry Price: $20\n\n\n\n	RSVP Deadline: Wednesday\, April 29th\, 2026 (by noon\, 12 pm)\n\n\n\n	Event Director: Ren e M. Ferron & Patti Cox
X-ALT-DESC;FMTTYPE=text/html:<p style="box-sizing: border-box\; margin: 0px 0px 10px\; color: rgb(85\, 85\, 85)\; font-family: Montserrat\, sans-serif\; font-size: 16px\;">Get ready for an unforgettable day in the heart of downtown Beeville at the First Annual Bee County Car Show\, proudly presented by the Bee County Chamber of Commerce and BeeHop Yogurt Hive on May 2\, 2026! This exciting\, high-energy event will showcase an incredible lineup of vehicles. From classic cars and modern muscle to fully customized builds\, motorcycles\, and one-of-a-kind custom bikes. Whether you&#39\;re a lifelong car enthusiast or just love a great community event\, you&rsquo\;ll be surrounded by the sights\, sounds\, and craftsmanship of some truly impressive rides. With a wide variety of entries expected\, there&rsquo\;s something for everyone to enjoy\, and awards will be presented across multiple categories (to be announced)\, celebrating the best of the best.</p>\n\n<p style="box-sizing: border-box\; margin: 0px\; color: rgb(85\, 85\, 85)\; font-family: Montserrat\, sans-serif\; font-size: 16px\;">As you take in the car show\, you&rsquo\;ll also be right in the middle of the vibrant energy of Market Days\, happening just a short walk away. Spend the day exploring local vendors and&nbsp\;enjoying delicious food trucks\,&nbsp\;all while supporting our amazing small businesses throughout downtown Beeville. From unique shopping experiences to family-friendly fun\, this event is designed to bring the community together in a big way. Mark your calendar and come be part of a grand celebration of cars\, community\, and everything that makes Bee County special!<br />\n<br />\n&nbsp\;</p>\n\n<h3 style="box-sizing: border-box\; font-family: Montserrat\, sans-serif\; color: rgb(85\, 85\, 85)\; margin-top: 20px\; margin-bottom: 10px\; font-size: 32px\;">Event Details</h3>\n\n<ul style="box-sizing: border-box\; margin-top: 0px\; margin-bottom: 10px\; color: rgb(85\, 85\, 85)\; font-family: Montserrat\, sans-serif\; font-size: 16px\;">\n	<li style="box-sizing: border-box\;">Date: Saturday\, May 2nd\, 2026</li>\n</ul>\n\n<ul style="box-sizing: border-box\; margin-top: 0px\; margin-bottom: 10px\; color: rgb(85\, 85\, 85)\; font-family: Montserrat\, sans-serif\; font-size: 16px\;">\n	<li style="box-sizing: border-box\;">Location: BeeHop Yogurt Hive<br style="box-sizing: border-box\;" />\n	301 N. St. Marys\, Beeville TX 78102</li>\n</ul>\n\n<ul style="box-sizing: border-box\; margin-top: 0px\; margin-bottom: 10px\; color: rgb(85\, 85\, 85)\; font-family: Montserrat\, sans-serif\; font-size: 16px\;">\n	<li style="box-sizing: border-box\;">Entry Price: $20</li>\n</ul>\n\n<ul style="box-sizing: border-box\; margin-top: 0px\; margin-bottom: 10px\; color: rgb(85\, 85\, 85)\; font-family: Montserrat\, sans-serif\; font-size: 16px\;">\n	<li style="box-sizing: border-box\;">RSVP Deadline: Wednesday\,&nbsp\;<strong style="box-sizing: border-box\; font-weight: bold\;">April 29th\, 2026</strong>&nbsp\;(by noon\, 12 pm)</li>\n</ul>\n\n<ul style="box-sizing: border-box\; margin-top: 0px\; margin-bottom: 10px\; color: rgb(85\, 85\, 85)\; font-family: Montserrat\, sans-serif\; font-size: 16px\;">\n	<li style="box-sizing: border-box\;">Event Director: Ren&eacute\;e M. Ferron &amp\; Patti Cox</li>\n</ul>\n
LOCATION:
UID:e.119.9381
SEQUENCE:3
DTSTAMP:20260421T123813Z
URL:https://members.experiencebeecounty.org/events/details/2026-bee-county-car-show-9381
END:VEVENT

END:VCALENDAR
